BEGIN:VCALENDAR
VERSION:2.0
PRODID:-//Whitefish Bay Public Library//NONSGML v1.0//EN
METHOD:PUBLISH
BEGIN:VEVENT
DTSTART;TZID=America/Chicago:20250611T183000
DTEND;TZID=America/Chicago:20250611T193000
DTSTAMP:20260421T080041
CREATED:20260421T080041-18000
SUMMARY:Mystery Book Club
DESCRIPTION:This month we are reading Claire DeWitt and the City of the Dead by Sara Gran.
URL:whitefishbaypubliclibrary.digitalbranch.org/api/event_export_ics_controlle
LOCATION:
UID:19156
END:VEVENT
END:VCALENDAR
