BEGIN:VCALENDAR
VERSION:2.0
PRODID:-//Whitefish Bay Public Library//NONSGML v1.0//EN
METHOD:PUBLISH
BEGIN:VEVENT
DTSTART;TZID=America/Chicago:20250625T183000
DTEND;TZID=America/Chicago:20250625T193000
DTSTAMP:20260421T080352
CREATED:20260421T080352-18000
SUMMARY:Sound Bath- Self-Care at the Library
DESCRIPTION:This summer start or continue your journey of self-care at the library.Listening to different musical and sound frequencies can help you relax and heal. Join Bernard Runo of Adagio Sound Healing for sound therapy featuring Tibetan singing bowls\, string instruments and the monochord. Please wear comfortable clothing and bring a yoga mat\, blanket and pillow if you like. Sound bath performance from Bernard Runo & David Kotlewski of Adagio Sound Healing. Registration is required.
URL:whitefishbaypubliclibrary.digitalbranch.org/api/event_export_ics_controlle
LOCATION:
UID:20745
END:VEVENT
END:VCALENDAR
