BEGIN:VCALENDAR
VERSION:2.0
PRODID:-//Whitefish Bay Public Library//NONSGML v1.0//EN
METHOD:PUBLISH
BEGIN:VEVENT
DTSTART;TZID=America/Chicago:20251015T160000
DTEND;TZID=America/Chicago:20251015T170000
DTSTAMP:20260421T112539
CREATED:20260421T112539-18000
SUMMARY:Canceled: Tiny Haunted House Creations for Teens!
DESCRIPTION:Create a mini haunted house out of a shoebox and fill it with spooktacular items\: tissue paper ghosts\, pompom pumpkins\, and more.  

Grades 6th-12th.  Registration appreciated and open now.
URL:whitefishbaypubliclibrary.digitalbranch.org/api/event_export_ics_controlle
LOCATION:
UID:24194
END:VEVENT
END:VCALENDAR
