BEGIN:VCALENDAR
VERSION:2.0
PRODID:-//Whitefish Bay Public Library//NONSGML v1.0//EN
METHOD:PUBLISH
BEGIN:VEVENT
DTSTART;TZID=America/Chicago:20260323T183000
DTEND;TZID=America/Chicago:20260323T200000
DTSTAMP:20260420T095648
CREATED:20260420T095648-18000
SUMMARY:An Evening with Nick Petrie
DESCRIPTION:Join us for an evening with author Nick Petrie. He'll be signing copies of his newest book\, The Dark Time. Boswell Book Company will be on hand selling copies of his books.
URL:whitefishbaypubliclibrary.digitalbranch.org/api/event_export_ics_controlle
LOCATION:
UID:29381
END:VEVENT
END:VCALENDAR
