BEGIN:VCALENDAR
VERSION:2.0
PRODID:-//Whitefish Bay Public Library//NONSGML v1.0//EN
METHOD:PUBLISH
BEGIN:VEVENT
DTSTART;TZID=America/Chicago:20260428T100000
DTEND;TZID=America/Chicago:20260428T103000
DTSTAMP:20260423T083804
CREATED:20260423T083804-18000
SUMMARY:Toddler Time for One Year Olds
DESCRIPTION:Join Miss Valerie for stories\, songs\, lap bounces and more\, followed by a playtime for our little ones.
URL:whitefishbaypubliclibrary.digitalbranch.org/api/event_export_ics_controlle
LOCATION:
UID:29692
END:VEVENT
END:VCALENDAR
