BEGIN:VCALENDAR
VERSION:2.0
PRODID:-//Whitefish Bay Public Library//NONSGML v1.0//EN
METHOD:PUBLISH
BEGIN:VEVENT
DTSTART;TZID=America/Chicago:20260422T160000
DTEND;TZID=America/Chicago:20260422T170000
DTSTAMP:20260421T070855
CREATED:20260421T070855-18000
SUMMARY:Celebrate Earth Day!
DESCRIPTION:Build a bee hotel with recycled materials.
URL:whitefishbaypubliclibrary.digitalbranch.org/api/event_export_ics_controlle
LOCATION:
UID:30439
END:VEVENT
END:VCALENDAR
